BEGIN:VCALENDAR
VERSION:2.0
METHOD:PUBLISH
CALSCALE:GREGORIAN
PRODID:-//Refresh Web Development//Helios Calendar//EN
X-FROM-URL:https://www.bayareascience.org/calendar/index.php?com=details&eID=36540
X-WR-RELCALID:BayAreaScience.org Google Colab: AI co-pilot socio-emotional training system for autistic children 20240928T150000
X-WR-TIMEZONE:America/New_York
X-WR-CALNAME:BayAreaScience.org
BEGIN:VEVENT
URL;VALUE=URI:https://www.bayareascience.org/calendar/index.php?com=detail&eID=36540
DTSTART:20240928T150000
DTEND:20240928T170000
SUMMARY:Google Colab: AI co-pilot socio-emotional training system for autistic children
DESCRIPTION:Through...\n______________________________\nThis Event Downloaded From a Helios Calendar Powered Site
LOCATION:Maker Nexus - 1330 Orleans Dr \, Sunnyvalle\, CA  94089
CATEGORIES:BayAreaScience.org Events
PRIORITY:0
TRANSP:TRANSPARENT
END:VEVENT
END:VCALENDAR