BEGIN:VCALENDAR
VERSION:2.0
METHOD:PUBLISH
CALSCALE:GREGORIAN
PRODID:-//Refresh Web Development//Helios Calendar//EN
X-FROM-URL:https://www.bayareascience.org/calendar/index.php?com=details&eID=36542
X-WR-RELCALID:BayAreaScience.org You’ve Just Been F$%^#D by Psyops: UFOs, Magic, Electronic Warfare, Mind Control, Artificial Intelligence and the Death of the Internet 20240910T170000
X-WR-TIMEZONE:America/New_York
X-WR-CALNAME:BayAreaScience.org
BEGIN:VEVENT
URL;VALUE=URI:https://www.bayareascience.org/calendar/index.php?com=detail&eID=36542
DTSTART:20240910T170000
DTEND:20240910T183000
SUMMARY:You’ve Just Been F$%^#D by Psyops: UFOs\, Magic\, Electronic Warfare\, Mind Control\, Artificial Intelligence and the Death of the Internet
DESCRIPTION:As AI-generated content\, social media influence operations\, microtargeted advertising and ubiquitous surveillance have become the norm on the internet and in the market in general\, we have entered...\n______________________________\nThis Event Downloaded From a Helios Calendar Powered Site
LOCATION:David Brower Center - 2150 Allston Way \, Berkeley\, CA  94704
CATEGORIES:BayAreaScience.org Events
PRIORITY:0
TRANSP:TRANSPARENT
END:VEVENT
END:VCALENDAR