BEGIN:VCALENDAR
VERSION:2.0
METHOD:PUBLISH
CALSCALE:GREGORIAN
PRODID:-//Refresh Web Development//Helios Calendar//EN
X-FROM-URL:https://www.bayareascience.org/calendar/index.php?com=details&eID=36549
X-WR-RELCALID:BayAreaScience.org The Coming 6th Generation of Mobile Wireless - Rescheduled 20240905T160000
X-WR-TIMEZONE:America/New_York
X-WR-CALNAME:BayAreaScience.org
BEGIN:VEVENT
URL;VALUE=URI:https://www.bayareascience.org/calendar/index.php?com=detail&eID=36549
DTSTART:20240905T160000
DTEND:20240905T170000
SUMMARY:The Coming 6th Generation of Mobile Wireless - Rescheduled
DESCRIPTION:The first commercial...\n______________________________\nThis Event Downloaded From a Helios Calendar Powered Site
LOCATION:Sonoma State Dept. of Engineering Science - 1801 East Cotati Ave Cerent Engineering Science Complex\, Salazar Hall Room #2009A\, Rohnert Park\, CA  94928
CATEGORIES:BayAreaScience.org Events
PRIORITY:0
TRANSP:TRANSPARENT
END:VEVENT
END:VCALENDAR