BEGIN:VCALENDAR
VERSION:2.0
METHOD:PUBLISH
CALSCALE:GREGORIAN
PRODID:-//Refresh Web Development//Helios Calendar//EN
X-FROM-URL:https://www.bayareascience.org/calendar/index.php?com=details&eID=36551
X-WR-RELCALID:BayAreaScience.org Fair Play? - Human and AI Biases in Gaming 20240829T173000
X-WR-TIMEZONE:America/New_York
X-WR-CALNAME:BayAreaScience.org
BEGIN:VEVENT
URL;VALUE=URI:https://www.bayareascience.org/calendar/index.php?com=detail&eID=36551
DTSTART:20240829T173000
DTEND:20240829T210000
SUMMARY:Fair Play? - Human and AI Biases in Gaming
DESCRIPTION:This event will investigate the impact of artificial intelligence on the gaming industry\, focusing on the role of AI in enhancing creativity within game design. The discussion will explore how...\n______________________________\nThis Event Downloaded From a Helios Calendar Powered Site
LOCATION:swissnex San Francisco - The Embarcadero Pier 17\, Suite 800\, San Francisco\, CA  94111
CATEGORIES:BayAreaScience.org Events
PRIORITY:0
TRANSP:TRANSPARENT
END:VEVENT
END:VCALENDAR