BEGIN:VCALENDAR
VERSION:2.0
METHOD:PUBLISH
CALSCALE:GREGORIAN
PRODID:-//Refresh Web Development//Helios Calendar//EN
X-FROM-URL:https://www.bayareascience.org/calendar/index.php?com=details&eID=36560
X-WR-RELCALID:BayAreaScience.org The Renaissance of Astrophysics - Livestream 20241112T140000
X-WR-TIMEZONE:America/New_York
X-WR-CALNAME:BayAreaScience.org
BEGIN:VEVENT
URL;VALUE=URI:https://www.bayareascience.org/calendar/index.php?com=detail&eID=36560
DTSTART:20241112T140000
DTEND:20241112T153000
SUMMARY:The Renaissance of Astrophysics - Livestream
DESCRIPTION:Raffaella Margutti\, Associate Professor\, Astronomy Department and Physics Department\, will review how new observational capabilities to study the night sky have led to recent discoveries and new...\n______________________________\nThis Event Downloaded From a Helios Calendar Powered Site
LOCATION:UC Berkeley Retirement Center -  \, \, CA  
CATEGORIES:BayAreaScience.org Events
PRIORITY:0
TRANSP:TRANSPARENT
END:VEVENT
END:VCALENDAR