BEGIN:VCALENDAR
VERSION:2.0
METHOD:PUBLISH
CALSCALE:GREGORIAN
PRODID:-//Refresh Web Development//Helios Calendar//EN
X-FROM-URL:https://www.bayareascience.org/calendar/index.php?com=details&eID=36561
X-WR-RELCALID:BayAreaScience.org Family Nature Adventures: Night Prowl: Secrets of Local Owls 20241012T103000
X-WR-TIMEZONE:America/New_York
X-WR-CALNAME:BayAreaScience.org
BEGIN:VEVENT
URL;VALUE=URI:https://www.bayareascience.org/calendar/index.php?com=detail&eID=36561
DTSTART:20241012T103000
DTEND:20241012T120000
SUMMARY:Family Nature Adventures: Night Prowl: Secrets of Local Owls
DESCRIPTION:Join the Fun at Family Nature Adventures!Get ready for an exciting journey into Chabot’s surrounding redwood forest every 2nd Saturday of the month! Each adventure brings...\n______________________________\nThis Event Downloaded From a Helios Calendar Powered Site
LOCATION:Chabot Space and Science Center - 10000 Skyline Blvd \, Oakland\, CA USA 94619
CATEGORIES:BayAreaScience.org Events
PRIORITY:0
TRANSP:TRANSPARENT
END:VEVENT
END:VCALENDAR