BEGIN:VCALENDAR
VERSION:2.0
METHOD:PUBLISH
CALSCALE:GREGORIAN
PRODID:-//Refresh Web Development//Helios Calendar//EN
X-FROM-URL:https://www.bayareascience.org/calendar/index.php?com=details&eID=36562
X-WR-RELCALID:BayAreaScience.org Lunch & Learn: Diving Deeper Into AI 20240906T113000
X-WR-TIMEZONE:America/New_York
X-WR-CALNAME:BayAreaScience.org
BEGIN:VEVENT
URL;VALUE=URI:https://www.bayareascience.org/calendar/index.php?com=detail&eID=36562
DTSTART:20240906T113000
DTEND:20240906T130000
SUMMARY:Lunch & Learn: Diving Deeper Into AI
DESCRIPTION:Following the success of our March 2024 panel on AI in marketing and public relations\, we're excited to host a more intimate “Lunch and Learn” with presenter Warner Johnston\, founder of 5 Borough...\n______________________________\nThis Event Downloaded From a Helios Calendar Powered Site
LOCATION:Mechanics' Institute - 57 Post Street \, San Francisco\, CA USA 94104
CATEGORIES:BayAreaScience.org Events
PRIORITY:0
TRANSP:TRANSPARENT
END:VEVENT
END:VCALENDAR