BEGIN:VCALENDAR
VERSION:2.0
METHOD:PUBLISH
CALSCALE:GREGORIAN
PRODID:-//Refresh Web Development//Helios Calendar//EN
X-FROM-URL:https://www.bayareascience.org/calendar/index.php?com=details&eID=36563
X-WR-RELCALID:BayAreaScience.org AI Agents, LLMS, AI Voice & Building AI Assistants 20240924T090000
X-WR-TIMEZONE:America/New_York
X-WR-CALNAME:BayAreaScience.org
BEGIN:VEVENT
URL;VALUE=URI:https://www.bayareascience.org/calendar/index.php?com=detail&eID=36563
DTSTART:20240924T090000
DTEND:20240924T120000
SUMMARY:AI Agents\, LLMS\, AI Voice & Building AI Assistants
DESCRIPTION:Join us for the premier event exploring the cutting-edge advancements in chatbots\, conversational AI\, and large language models (LLMs). This three-day conference is a must-attend for technology...\n______________________________\nThis Event Downloaded From a Helios Calendar Powered Site
LOCATION:The Event Space at CSI - 2266 California St \, San Francisco\, CA  94115
CATEGORIES:BayAreaScience.org Events
PRIORITY:0
TRANSP:TRANSPARENT
END:VEVENT
END:VCALENDAR