BEGIN:VCALENDAR
VERSION:2.0
METHOD:PUBLISH
CALSCALE:GREGORIAN
PRODID:-//Refresh Web Development//Helios Calendar//EN
X-FROM-URL:https://www.bayareascience.org/calendar/index.php?com=details&eID=36565
X-WR-RELCALID:BayAreaScience.org Life's Better Electric: Electrification Fair 20240928T100000
X-WR-TIMEZONE:America/New_York
X-WR-CALNAME:BayAreaScience.org
BEGIN:VEVENT
URL;VALUE=URI:https://www.bayareascience.org/calendar/index.php?com=detail&eID=36565
DTSTART:20240928T100000
DTEND:20240928T140000
SUMMARY:Life's Better Electric: Electrification Fair
DESCRIPTION:Life is better electric! Most San Francisco homes use natural gas for heating\, water heating\, clothes drying and/or cooking\, which creates indoor air pollution and contributes to climate...\n______________________________\nThis Event Downloaded From a Helios Calendar Powered Site
LOCATION:Women's Building - 3543 18th Street \, San Francisco\, CA  94110
CATEGORIES:BayAreaScience.org Events
PRIORITY:0
TRANSP:TRANSPARENT
END:VEVENT
END:VCALENDAR