BEGIN:VCALENDAR
VERSION:2.0
METHOD:PUBLISH
CALSCALE:GREGORIAN
PRODID:-//Refresh Web Development//Helios Calendar//EN
X-FROM-URL:https://www.bayareascience.org/calendar/index.php?com=details&eID=36566
X-WR-RELCALID:BayAreaScience.org Science on Tap: Nuclear Testing Impacts and Resilience 20240912T173000
X-WR-TIMEZONE:America/New_York
X-WR-CALNAME:BayAreaScience.org
BEGIN:VEVENT
URL;VALUE=URI:https://www.bayareascience.org/calendar/index.php?com=detail&eID=36566
DTSTART:20240912T173000
DTEND:20240912T193000
SUMMARY:Science on Tap: Nuclear Testing Impacts and Resilience
DESCRIPTION:Nuclear testing has had long-lasting and serious impacts on our environmental and human communities\, shifting\, distorting\, and creating new and often difficult landscapes\, needs\, and stories. During...\n______________________________\nThis Event Downloaded From a Helios Calendar Powered Site
LOCATION:Pacific Grove Museum of Natural History - 165 Forest Ave \, Pacific Grove\, CA  93950
CATEGORIES:BayAreaScience.org Events
PRIORITY:0
TRANSP:TRANSPARENT
END:VEVENT
END:VCALENDAR