BEGIN:VCALENDAR
VERSION:2.0
METHOD:PUBLISH
CALSCALE:GREGORIAN
PRODID:-//Refresh Web Development//Helios Calendar//EN
X-FROM-URL:https://www.bayareascience.org/calendar/index.php?com=details&eID=36571
X-WR-RELCALID:BayAreaScience.org Nature's Best Hope - 20th Anniversary Bringing Back the Natives Garden Tour 20241117T130000
X-WR-TIMEZONE:America/New_York
X-WR-CALNAME:BayAreaScience.org
BEGIN:VEVENT
URL;VALUE=URI:https://www.bayareascience.org/calendar/index.php?com=detail&eID=36571
DTSTART:20241117T130000
DTEND:20241117T150000
SUMMARY:Nature's Best Hope - 20th Anniversary Bringing Back the Natives Garden Tour
DESCRIPTION:Agenda for Sunday1:00 Welcome from Glenn Phillips\, Executive Director of the Golden Gate Bird Alliance\, and Kathy Kramer\, Bringing Back the Natives Garden Tour Founder and Coordinator1:20...\n______________________________\nThis Event Downloaded From a Helios Calendar Powered Site
LOCATION:Santa Clara University - Mayer Theater \, Santa Clara\, CA  95053
CATEGORIES:BayAreaScience.org Events
PRIORITY:0
TRANSP:TRANSPARENT
END:VEVENT
END:VCALENDAR