BEGIN:VCALENDAR
VERSION:2.0
METHOD:PUBLISH
CALSCALE:GREGORIAN
PRODID:-//Refresh Web Development//Helios Calendar//EN
X-FROM-URL:https://www.bayareascience.org/calendar/index.php?com=details&eID=36573
X-WR-RELCALID:BayAreaScience.org Observe The Moon Night at Foothill 20240914T193000
X-WR-TIMEZONE:America/New_York
X-WR-CALNAME:BayAreaScience.org
BEGIN:VEVENT
URL;VALUE=URI:https://www.bayareascience.org/calendar/index.php?com=detail&eID=36573
DTSTART:20240914T193000
DTEND:20240914T223000
SUMMARY:Observe The Moon Night at Foothill
DESCRIPTION:In partnership with the Peninsula Astronomical Society\, the Foothill College Astronomy Department is hosting an event as part of NASA's Observe the Moon night.  We will have a variety...\n______________________________\nThis Event Downloaded From a Helios Calendar Powered Site
LOCATION:Foothill College - 12345 El Monte Rd \, Los Altos Hills\, CA  94022
CATEGORIES:BayAreaScience.org Events
PRIORITY:0
TRANSP:TRANSPARENT
END:VEVENT
END:VCALENDAR