BEGIN:VCALENDAR
VERSION:2.0
METHOD:PUBLISH
CALSCALE:GREGORIAN
PRODID:-//Refresh Web Development//Helios Calendar//EN
X-FROM-URL:https://www.bayareascience.org/calendar/index.php?com=details&eID=36594
X-WR-RELCALID:BayAreaScience.org  SETI LIVE: Hot, Young Supernova Remnant! JWST Observations of Cas A Challenge Scientists - Livestream 20240829T090000
X-WR-TIMEZONE:America/New_York
X-WR-CALNAME:BayAreaScience.org
BEGIN:VEVENT
URL;VALUE=URI:https://www.bayareascience.org/calendar/index.php?com=detail&eID=36594
DTSTART:20240829T090000
DTEND:20240829T093000
SUMMARY: SETI LIVE: Hot\, Young Supernova Remnant! JWST Observations of Cas A Challenge Scientists - Livestream
DESCRIPTION:When...\n______________________________\nThis Event Downloaded From a Helios Calendar Powered Site
LOCATION:SETI Institute -  \, \, CA  
CATEGORIES:BayAreaScience.org Events
PRIORITY:0
TRANSP:TRANSPARENT
END:VEVENT
END:VCALENDAR