BEGIN:VCALENDAR
VERSION:2.0
METHOD:PUBLISH
CALSCALE:GREGORIAN
PRODID:-//Refresh Web Development//Helios Calendar//EN
X-FROM-URL:https://www.bayareascience.org/calendar/index.php?com=details&eID=36597
X-WR-RELCALID:BayAreaScience.org Characterizing and Mitigation Climate-Intensified Exposures Among Agricultural Workers 20240910T124000
X-WR-TIMEZONE:America/New_York
X-WR-CALNAME:BayAreaScience.org
BEGIN:VEVENT
URL;VALUE=URI:https://www.bayareascience.org/calendar/index.php?com=detail&eID=36597
DTSTART:20240910T124000
DTEND:20240910T140000
SUMMARY:Characterizing and Mitigation Climate-Intensified Exposures Among Agricultural Workers
DESCRIPTION:\n______________________________\nThis Event Downloaded From a Helios Calendar Powered Site
LOCATION:Berkeley Way West - UC Berkeley\, Room 1102 2121 Berkeley Way\, Berkeley\, CA  94720
CATEGORIES:BayAreaScience.org Events
PRIORITY:0
TRANSP:TRANSPARENT
END:VEVENT
END:VCALENDAR