BEGIN:VCALENDAR
VERSION:2.0
METHOD:PUBLISH
CALSCALE:GREGORIAN
PRODID:-//Refresh Web Development//Helios Calendar//EN
X-FROM-URL:https://www.bayareascience.org/calendar/index.php?com=details&eID=36607
X-WR-RELCALID:BayAreaScience.org The Health of Our Oceans 20241015T170000
X-WR-TIMEZONE:America/New_York
X-WR-CALNAME:BayAreaScience.org
BEGIN:VEVENT
URL;VALUE=URI:https://www.bayareascience.org/calendar/index.php?com=detail&eID=36607
DTSTART:20241015T170000
DTEND:20241015T170000
SUMMARY:The Health of Our Oceans
DESCRIPTION:Join us as industry-leading experts from Monterey Bay Aquarium\, Stanford’s Doerr School\, and SRI explore ocean health and the impact on our future. We are pleased to host Julie Packard - marine...\n______________________________\nThis Event Downloaded From a Helios Calendar Powered Site
LOCATION:PARC Forum - 3333 Coyote Hill Road Palo Alto Research Center\, George E. Pake Auditorium\, Palo Alto\, CA USA 94304
CATEGORIES:BayAreaScience.org Events
PRIORITY:0
TRANSP:TRANSPARENT
END:VEVENT
END:VCALENDAR