BEGIN:VCALENDAR
VERSION:2.0
METHOD:PUBLISH
CALSCALE:GREGORIAN
PRODID:-//Refresh Web Development//Helios Calendar//EN
X-FROM-URL:https://www.bayareascience.org/calendar/index.php?com=details&eID=36609
X-WR-RELCALID:BayAreaScience.org The Ultraviolet Explorer 20241003T154500
X-WR-TIMEZONE:America/New_York
X-WR-CALNAME:BayAreaScience.org
BEGIN:VEVENT
URL;VALUE=URI:https://www.bayareascience.org/calendar/index.php?com=detail&eID=36609
DTSTART:20241003T154500
DTEND:20241003T170000
SUMMARY:The Ultraviolet Explorer
DESCRIPTION:Speaker: Fiona Harrison\, California Institute of Technology\n______________________________\nThis Event Downloaded From a Helios Calendar Powered Site
LOCATION:Physics South\, Room 251 - UC Berkeley \, Berkeley\, CA  94720
CATEGORIES:BayAreaScience.org Events
PRIORITY:0
TRANSP:TRANSPARENT
END:VEVENT
END:VCALENDAR