BEGIN:VCALENDAR
VERSION:2.0
METHOD:PUBLISH
CALSCALE:GREGORIAN
PRODID:-//Refresh Web Development//Helios Calendar//EN
X-FROM-URL:https://www.bayareascience.org/calendar/index.php?com=details&eID=36627
X-WR-RELCALID:BayAreaScience.org Holistic health indices in a changing environment: pathogens, stress, disease, and death - Livestream 20240925T150000
X-WR-TIMEZONE:America/New_York
X-WR-CALNAME:BayAreaScience.org
BEGIN:VEVENT
URL;VALUE=URI:https://www.bayareascience.org/calendar/index.php?com=detail&eID=36627
DTSTART:20240925T150000
DTEND:20240925T160000
SUMMARY:Holistic health indices in a changing environment: pathogens\, stress\, disease\, and death - Livestream
DESCRIPTION:Speaker: Kristi Miller-Saunders - Professor\, University of British ColumbiaRegister at weblink to receive connection information\n______________________________\nThis Event Downloaded From a Helios Calendar Powered Site
LOCATION:Bodega Marine Laboratory -  \, \, CA  
CATEGORIES:BayAreaScience.org Events
PRIORITY:0
TRANSP:TRANSPARENT
END:VEVENT
END:VCALENDAR