BEGIN:VCALENDAR
VERSION:2.0
METHOD:PUBLISH
CALSCALE:GREGORIAN
PRODID:-//Refresh Web Development//Helios Calendar//EN
X-FROM-URL:https://www.bayareascience.org/calendar/index.php?com=details&eID=36639
X-WR-RELCALID:BayAreaScience.org Fall Bird Walk - SOLD OUT 20241120T090000
X-WR-TIMEZONE:America/New_York
X-WR-CALNAME:BayAreaScience.org
BEGIN:VEVENT
URL;VALUE=URI:https://www.bayareascience.org/calendar/index.php?com=detail&eID=36639
DTSTART:20241120T090000
DTEND:20241120T103000
SUMMARY:Fall Bird Walk - SOLD OUT
DESCRIPTION:in Chris Carmichael in search of both resident and migrant birds in the Garden’s many bird friendly micro habitats. Chris will be joined by Susan Greef\, Garden Member and avid birder. Beginning...\n______________________________\nThis Event Downloaded From a Helios Calendar Powered Site
LOCATION:UC Botanical Garden - 200 Centennial Drive \, Berkeley\, CA  94720
CATEGORIES:BayAreaScience.org Events
PRIORITY:0
TRANSP:TRANSPARENT
END:VEVENT
END:VCALENDAR