BEGIN:VCALENDAR
VERSION:2.0
METHOD:PUBLISH
CALSCALE:GREGORIAN
PRODID:-//Refresh Web Development//Helios Calendar//EN
X-FROM-URL:https://www.bayareascience.org/calendar/index.php?com=details&eID=36642
X-WR-RELCALID:BayAreaScience.org First Friday Nights at Curiodyssey 20241004T170000
X-WR-TIMEZONE:America/New_York
X-WR-CALNAME:BayAreaScience.org
BEGIN:VEVENT
URL;VALUE=URI:https://www.bayareascience.org/calendar/index.php?com=detail&eID=36642
DTSTART:20241004T170000
DTEND:20241004T200000
SUMMARY:First Friday Nights at Curiodyssey
DESCRIPTION:Join us for a Summer Sunset! Dance to some of your favorite pop and rock hits with the band\, Right Time! while enjoying animal presentations\, authentic Singaporean food from Satay By The Bay\, and...\n______________________________\nThis Event Downloaded From a Helios Calendar Powered Site
LOCATION:CuriOdyssey - 1651 Coyote Point Drive \, San Mateo\, CA USA 94401
CATEGORIES:BayAreaScience.org Events
PRIORITY:0
TRANSP:TRANSPARENT
END:VEVENT
END:VCALENDAR