BEGIN:VCALENDAR
VERSION:2.0
METHOD:PUBLISH
CALSCALE:GREGORIAN
PRODID:-//Refresh Web Development//Helios Calendar//EN
X-FROM-URL:https://www.bayareascience.org/calendar/index.php?com=details&eID=36650
X-WR-RELCALID:BayAreaScience.org Fungus Among Us at Sanborn Park 20241228T103000
X-WR-TIMEZONE:America/New_York
X-WR-CALNAME:BayAreaScience.org
BEGIN:VEVENT
URL;VALUE=URI:https://www.bayareascience.org/calendar/index.php?com=detail&eID=36650
DTSTART:20241228T103000
DTEND:20241228T120000
SUMMARY:Fungus Among Us at Sanborn Park
DESCRIPTION:Join us for a hike to learn about the fantastic world of fungi! Are they a plant? Which ones are poisonous? What happens to it after the mushroom dies? Learn more about one of the oldest living...\n______________________________\nThis Event Downloaded From a Helios Calendar Powered Site
LOCATION:Sanborn Science and Nature Center - 16055 Sanborn Rd \, Saratoga\, CA  95070
CATEGORIES:BayAreaScience.org Events
PRIORITY:0
TRANSP:TRANSPARENT
END:VEVENT
END:VCALENDAR