BEGIN:VCALENDAR
VERSION:2.0
METHOD:PUBLISH
CALSCALE:GREGORIAN
PRODID:-//Refresh Web Development//Helios Calendar//EN
X-FROM-URL:https://www.bayareascience.org/calendar/index.php?com=details&eID=36655
X-WR-RELCALID:BayAreaScience.org Birding at Alum Rock 20250419T103000
X-WR-TIMEZONE:America/New_York
X-WR-CALNAME:BayAreaScience.org
BEGIN:VEVENT
URL;VALUE=URI:https://www.bayareascience.org/calendar/index.php?com=detail&eID=36655
DTSTART:20250419T103000
DTEND:20250419T120000
SUMMARY:Birding at Alum Rock
DESCRIPTION:Join YSI as...\n______________________________\nThis Event Downloaded From a Helios Calendar Powered Site
LOCATION:Alum Rock Park - 15350 Penitencia Creek Rd \, San Jose\, CA  95127
CATEGORIES:BayAreaScience.org Events
PRIORITY:0
TRANSP:TRANSPARENT
END:VEVENT
END:VCALENDAR