BEGIN:VCALENDAR
VERSION:2.0
METHOD:PUBLISH
CALSCALE:GREGORIAN
PRODID:-//Refresh Web Development//Helios Calendar//EN
X-FROM-URL:https://www.bayareascience.org/calendar/index.php?com=details&eID=36667
X-WR-RELCALID:BayAreaScience.org World Transitioning to Hydrogen Economy: How prepared are we in the USA? - Livestream 20240917T120000
X-WR-TIMEZONE:America/New_York
X-WR-CALNAME:BayAreaScience.org
BEGIN:VEVENT
URL;VALUE=URI:https://www.bayareascience.org/calendar/index.php?com=detail&eID=36667
DTSTART:20240917T120000
DTEND:20240917T130000
SUMMARY:World Transitioning to Hydrogen Economy: How prepared are we in the USA? - Livestream
DESCRIPTION:Is hydrogen the Super Fuel of the Future?Hydrogen is the most abundant substance in the universe. Its potential is promising. Hydrogen could become the main power source for cars\, trucks...\n______________________________\nThis Event Downloaded From a Helios Calendar Powered Site
LOCATION:Stanford Alumni Groups -  \, \, CA  
CATEGORIES:BayAreaScience.org Events
PRIORITY:0
TRANSP:TRANSPARENT
END:VEVENT
END:VCALENDAR