BEGIN:VCALENDAR
VERSION:2.0
METHOD:PUBLISH
CALSCALE:GREGORIAN
PRODID:-//Refresh Web Development//Helios Calendar//EN
X-FROM-URL:https://www.bayareascience.org/calendar/index.php?com=details&eID=36668
X-WR-RELCALID:BayAreaScience.org Jupiter’s moon Europa, and what NASA’s Europa Clipper mission will investigate upon arrival in 2030 - Livestream 20240925T180000
X-WR-TIMEZONE:America/New_York
X-WR-CALNAME:BayAreaScience.org
BEGIN:VEVENT
URL;VALUE=URI:https://www.bayareascience.org/calendar/index.php?com=detail&eID=36668
DTSTART:20240925T180000
DTEND:20240925T180000
SUMMARY:Jupiter’s moon Europa\, and what NASA’s Europa Clipper mission will investigate upon arrival in 2030 - Livestream
DESCRIPTION:Europa is one of...\n______________________________\nThis Event Downloaded From a Helios Calendar Powered Site
LOCATION:NASA Night Sky Network -  \, \, CA  
CATEGORIES:BayAreaScience.org Events
PRIORITY:0
TRANSP:TRANSPARENT
END:VEVENT
END:VCALENDAR