BEGIN:VCALENDAR
VERSION:2.0
METHOD:PUBLISH
CALSCALE:GREGORIAN
PRODID:-//Refresh Web Development//Helios Calendar//EN
X-FROM-URL:https://www.bayareascience.org/calendar/index.php?com=details&eID=36673
X-WR-RELCALID:BayAreaScience.org Circadian clocks, glia, and Alzheimer's Disease 20241115T120000
X-WR-TIMEZONE:America/New_York
X-WR-CALNAME:BayAreaScience.org
BEGIN:VEVENT
URL;VALUE=URI:https://www.bayareascience.org/calendar/index.php?com=detail&eID=36673
DTSTART:20241115T120000
DTEND:20241115T130000
SUMMARY:Circadian clocks\, glia\, and Alzheimer's Disease
DESCRIPTION:\n______________________________\nThis Event Downloaded From a Helios Calendar Powered Site
LOCATION:ChEM-H/Neuroscience Building\, Gunn Rotunda (E241) - 290 Jane Stanford Way Stanford University\, Stanford\, CA  
CATEGORIES:BayAreaScience.org Events
PRIORITY:0
TRANSP:TRANSPARENT
END:VEVENT
END:VCALENDAR