BEGIN:VCALENDAR
VERSION:2.0
METHOD:PUBLISH
CALSCALE:GREGORIAN
PRODID:-//Refresh Web Development//Helios Calendar//EN
X-FROM-URL:https://www.bayareascience.org/calendar/index.php?com=details&eID=36679
X-WR-RELCALID:BayAreaScience.org Individuals Prefer to Harm Their Own Group Rather Than Help an Opposing Group 20240911T120000
X-WR-TIMEZONE:America/New_York
X-WR-CALNAME:BayAreaScience.org
BEGIN:VEVENT
URL;VALUE=URI:https://www.bayareascience.org/calendar/index.php?com=detail&eID=36679
DTSTART:20240911T120000
DTEND:20240911T133000
SUMMARY:Individuals Prefer to Harm Their Own Group Rather Than Help an Opposing Group
DESCRIPTION:\n______________________________\nThis Event Downloaded From a Helios Calendar Powered Site
LOCATION:Berkeley Way West - UC Berkeley\, Room 1102 2121 Berkeley Way\, Berkeley\, CA  94720
CATEGORIES:BayAreaScience.org Events
PRIORITY:0
TRANSP:TRANSPARENT
END:VEVENT
END:VCALENDAR