BEGIN:VCALENDAR
VERSION:2.0
METHOD:PUBLISH
CALSCALE:GREGORIAN
PRODID:-//Refresh Web Development//Helios Calendar//EN
X-FROM-URL:https://www.bayareascience.org/calendar/index.php?com=details&eID=36685
X-WR-RELCALID:BayAreaScience.org InSight Mars Lander - Instrument Deployment System 20240920T150000
X-WR-TIMEZONE:America/New_York
X-WR-CALNAME:BayAreaScience.org
BEGIN:VEVENT
URL;VALUE=URI:https://www.bayareascience.org/calendar/index.php?com=detail&eID=36685
DTSTART:20240920T150000
DTEND:20240920T150000
SUMMARY:InSight Mars Lander - Instrument Deployment System
DESCRIPTION:NASA’s Interior Exploration Using Seismic Investigations\, Geodesy\, and Heat Transport (InSight) Mars Lander’s mission overarching goal is to understand the processes of planetary differentiation...\n______________________________\nThis Event Downloaded From a Helios Calendar Powered Site
LOCATION:Etcheverry Hall - UC Berkeley \, Berkeley\, CA  94720
CATEGORIES:BayAreaScience.org Events
PRIORITY:0
TRANSP:TRANSPARENT
END:VEVENT
END:VCALENDAR