BEGIN:VCALENDAR
VERSION:2.0
METHOD:PUBLISH
CALSCALE:GREGORIAN
PRODID:-//Refresh Web Development//Helios Calendar//EN
X-FROM-URL:https://www.bayareascience.org/calendar/index.php?com=details&eID=36686
X-WR-RELCALID:BayAreaScience.org Geography and Inequity: Key Structural Determinants of Health in the US 20240918T131500
X-WR-TIMEZONE:America/New_York
X-WR-CALNAME:BayAreaScience.org
BEGIN:VEVENT
URL;VALUE=URI:https://www.bayareascience.org/calendar/index.php?com=detail&eID=36686
DTSTART:20240918T131500
DTEND:20240918T141500
SUMMARY:Geography and Inequity: Key Structural Determinants of Health in the US
DESCRIPTION:Have you ever wondered why certain states in the US have better health outcomes than others? What happened historically that this is the case today\, and how does it influence our present-day reality?...\n______________________________\nThis Event Downloaded From a Helios Calendar Powered Site
LOCATION:James H. Clark Center (Bldg 340) - Stanford University 318 Campus Dr\, Stanford\, CA  94305
CATEGORIES:BayAreaScience.org Events
PRIORITY:0
TRANSP:TRANSPARENT
END:VEVENT
END:VCALENDAR