BEGIN:VCALENDAR
VERSION:2.0
METHOD:PUBLISH
CALSCALE:GREGORIAN
PRODID:-//Refresh Web Development//Helios Calendar//EN
X-FROM-URL:https://www.bayareascience.org/calendar/index.php?com=details&eID=36692
X-WR-RELCALID:BayAreaScience.org Lucy and the Taung Child: A Century of Science - Livestream 20240914T100000
X-WR-TIMEZONE:America/New_York
X-WR-CALNAME:BayAreaScience.org
BEGIN:VEVENT
URL;VALUE=URI:https://www.bayareascience.org/calendar/index.php?com=detail&eID=36692
DTSTART:20240914T100000
DTEND:20240914T113000
SUMMARY:Lucy and the Taung Child: A Century of Science - Livestream
DESCRIPTION:A century ago\, a small skull discovered at a South African quarry challenged what we thought we knew about human origins. Fifty years later\, the discovery of Lucy in Ethiopia further transformed...\n______________________________\nThis Event Downloaded From a Helios Calendar Powered Site
LOCATION:The Leakey Foundation -  \, \, CA  
CATEGORIES:BayAreaScience.org Events
PRIORITY:0
TRANSP:TRANSPARENT
END:VEVENT
END:VCALENDAR