BEGIN:VCALENDAR
VERSION:2.0
METHOD:PUBLISH
CALSCALE:GREGORIAN
PRODID:-//Refresh Web Development//Helios Calendar//EN
X-FROM-URL:https://www.bayareascience.org/calendar/index.php?com=details&eID=36694
X-WR-RELCALID:BayAreaScience.org Land x Good Fire: Sonoma Valley 20240927T090000
X-WR-TIMEZONE:America/New_York
X-WR-CALNAME:BayAreaScience.org
BEGIN:VEVENT
URL;VALUE=URI:https://www.bayareascience.org/calendar/index.php?com=detail&eID=36694
DTSTART:20240927T090000
DTEND:20240927T120000
SUMMARY:Land x Good Fire: Sonoma Valley
DESCRIPTION:Join fellows from Audubon Canyon Ranch's Fire Forward fellowship program for Sonoma County residents to learn about Good Fire.Join fellows from Audubon Canyon Ranch’s...\n______________________________\nThis Event Downloaded From a Helios Calendar Powered Site
LOCATION:Sonoma Valley Regional Park - 13630 Sonoma Highway \, Glen Ellen\, CA  95442
CATEGORIES:BayAreaScience.org Events
PRIORITY:0
TRANSP:TRANSPARENT
END:VEVENT
END:VCALENDAR