BEGIN:VCALENDAR
VERSION:2.0
METHOD:PUBLISH
CALSCALE:GREGORIAN
PRODID:-//Refresh Web Development//Helios Calendar//EN
X-FROM-URL:https://www.bayareascience.org/calendar/index.php?com=details&eID=36695
X-WR-RELCALID:BayAreaScience.org Land x Good Fire: Bodega Bay 20240928T090000
X-WR-TIMEZONE:America/New_York
X-WR-CALNAME:BayAreaScience.org
BEGIN:VEVENT
URL;VALUE=URI:https://www.bayareascience.org/calendar/index.php?com=detail&eID=36695
DTSTART:20240928T090000
DTEND:20240928T120000
SUMMARY:Land x Good Fire: Bodega Bay
DESCRIPTION:Join fellows from Audubon Canyon Ranch's Fire Forward fellowship program for Sonoma County residents to learn about Good Fire.Join fellows from Audubon Canyon Ranch’s...\n______________________________\nThis Event Downloaded From a Helios Calendar Powered Site
LOCATION:Bodega Bay -  \, Bodega Bay\, CA  94923
CATEGORIES:BayAreaScience.org Events
PRIORITY:0
TRANSP:TRANSPARENT
END:VEVENT
END:VCALENDAR