BEGIN:VCALENDAR
VERSION:2.0
METHOD:PUBLISH
CALSCALE:GREGORIAN
PRODID:-//Refresh Web Development//Helios Calendar//EN
X-FROM-URL:https://www.bayareascience.org/calendar/index.php?com=details&eID=36709
X-WR-RELCALID:BayAreaScience.org Probing Planetary Surfaces and Surface-Magnetosphere Interactions with Ion Scattering 20241122T120000
X-WR-TIMEZONE:America/New_York
X-WR-CALNAME:BayAreaScience.org
BEGIN:VEVENT
URL;VALUE=URI:https://www.bayareascience.org/calendar/index.php?com=detail&eID=36709
DTSTART:20241122T120000
DTEND:20241122T130000
SUMMARY:Probing Planetary Surfaces and Surface-Magnetosphere Interactions with Ion Scattering
DESCRIPTION:Speaker: Paul Szabo\, UC Berkeley\n______________________________\nThis Event Downloaded From a Helios Calendar Powered Site
LOCATION:Earth and Marine Sciences Building - UC Santa Cruz Room A340\, Santa Cruz\, CA  95064
CATEGORIES:BayAreaScience.org Events
PRIORITY:0
TRANSP:TRANSPARENT
END:VEVENT
END:VCALENDAR