BEGIN:VCALENDAR
VERSION:2.0
METHOD:PUBLISH
CALSCALE:GREGORIAN
PRODID:-//Refresh Web Development//Helios Calendar//EN
X-FROM-URL:https://www.bayareascience.org/calendar/index.php?com=details&eID=36721
X-WR-RELCALID:BayAreaScience.org Lunch, Bocce, and Electrochemical Systems for Large-Scale Energy Storage 20240928T113000
X-WR-TIMEZONE:America/New_York
X-WR-CALNAME:BayAreaScience.org
BEGIN:VEVENT
URL;VALUE=URI:https://www.bayareascience.org/calendar/index.php?com=detail&eID=36721
DTSTART:20240928T113000
DTEND:20240928T140000
SUMMARY:Lunch\, Bocce\, and Electrochemical Systems for Large-Scale Energy Storage
DESCRIPTION:The...\n______________________________\nThis Event Downloaded From a Helios Calendar Powered Site
LOCATION:Mission Peak Sportsplex - 4020 Technology Pl Suite 1\, Fremont\, CA  94538
CATEGORIES:BayAreaScience.org Events
PRIORITY:0
TRANSP:TRANSPARENT
END:VEVENT
END:VCALENDAR