BEGIN:VCALENDAR
VERSION:2.0
METHOD:PUBLISH
CALSCALE:GREGORIAN
PRODID:-//Refresh Web Development//Helios Calendar//EN
X-FROM-URL:https://www.bayareascience.org/calendar/index.php?com=details&eID=36722
X-WR-RELCALID:BayAreaScience.org Profound and Staggering: The Impact on Religion of the Potential Discovery of Life Around Other Stars - Livestream 20241009T190000
X-WR-TIMEZONE:America/New_York
X-WR-CALNAME:BayAreaScience.org
BEGIN:VEVENT
URL;VALUE=URI:https://www.bayareascience.org/calendar/index.php?com=detail&eID=36722
DTSTART:20241009T190000
DTEND:20241009T203000
SUMMARY:Profound and Staggering: The Impact on Religion of the Potential Discovery of Life Around Other Stars - Livestream
DESCRIPTION:Astronomers have now discovered thousands of planets in orbit around other stars. Dr. Weintraub will discuss those discoveries\, and predict the progress astronomers are likely to make in their...\n______________________________\nThis Event Downloaded From a Helios Calendar Powered Site
LOCATION:Silicon Valley Astronomy Lecture Series -  \, \, CA  
CATEGORIES:BayAreaScience.org Events
PRIORITY:0
TRANSP:TRANSPARENT
END:VEVENT
END:VCALENDAR