BEGIN:VCALENDAR
VERSION:2.0
METHOD:PUBLISH
CALSCALE:GREGORIAN
PRODID:-//Refresh Web Development//Helios Calendar//EN
X-FROM-URL:https://www.bayareascience.org/calendar/index.php?com=details&eID=36727
X-WR-RELCALID:BayAreaScience.org Morning Walk at Wavecrest 20240922T100000
X-WR-TIMEZONE:America/New_York
X-WR-CALNAME:BayAreaScience.org
BEGIN:VEVENT
URL;VALUE=URI:https://www.bayareascience.org/calendar/index.php?com=detail&eID=36727
DTSTART:20240922T100000
DTEND:20240922T113000
SUMMARY:Morning Walk at Wavecrest
DESCRIPTION:Join Peninsula Open Space Trust for a very easy 2-mile walk at Wavecrest Open Space in Half Moon Bay! We’ll walk through groves of trees and fields where we’ll have a great chance to spot a...\n______________________________\nThis Event Downloaded From a Helios Calendar Powered Site
LOCATION:Wavecrest Open Space Preserve - Thorne Ave \, Half Moon Bay\, CA  94019
CATEGORIES:BayAreaScience.org Events
PRIORITY:0
TRANSP:TRANSPARENT
END:VEVENT
END:VCALENDAR