BEGIN:VCALENDAR
VERSION:2.0
METHOD:PUBLISH
CALSCALE:GREGORIAN
PRODID:-//Refresh Web Development//Helios Calendar//EN
X-FROM-URL:https://www.bayareascience.org/calendar/index.php?com=details&eID=36730
X-WR-RELCALID:BayAreaScience.org Fall Festival 20241005T090000
X-WR-TIMEZONE:America/New_York
X-WR-CALNAME:BayAreaScience.org
BEGIN:VEVENT
URL;VALUE=URI:https://www.bayareascience.org/calendar/index.php?com=detail&eID=36730
DTSTART:20241005T090000
DTEND:20241005T140000
SUMMARY:Fall Festival
DESCRIPTION:Come celebrate our valley's rich agricultural history! The 8th Annual Fall Festival will have local arts\, crafts and food\, kids activities\, agricultural workshops\, historical autos\, antique farm...\n______________________________\nThis Event Downloaded From a Helios Calendar Powered Site
LOCATION:Martial Cottle Park - 5283 Snell Ave \, San Jose\, CA  95136
CATEGORIES:BayAreaScience.org Events
PRIORITY:0
TRANSP:TRANSPARENT
END:VEVENT
END:VCALENDAR