BEGIN:VCALENDAR
VERSION:2.0
METHOD:PUBLISH
CALSCALE:GREGORIAN
PRODID:-//Refresh Web Development//Helios Calendar//EN
X-FROM-URL:https://www.bayareascience.org/calendar/index.php?com=details&eID=36731
X-WR-RELCALID:BayAreaScience.org Coastal Walk at Cowell-Purisima Trail 20241010T100000
X-WR-TIMEZONE:America/New_York
X-WR-CALNAME:BayAreaScience.org
BEGIN:VEVENT
URL;VALUE=URI:https://www.bayareascience.org/calendar/index.php?com=detail&eID=36731
DTSTART:20241010T100000
DTEND:20241010T123000
SUMMARY:Coastal Walk at Cowell-Purisima Trail
DESCRIPTION:Join Peninsula Open Space Trust for a beautiful walk along the Cowell-Purisima trail that POST helped create by protecting adjacent farmland. While it may be foggy\, we hope to catch gorgeous views...\n______________________________\nThis Event Downloaded From a Helios Calendar Powered Site
LOCATION:Cowell Ranch Beach Access Parking Lot -  Cowell Ranch\, Half Moon Bay\, CA  94019
CATEGORIES:BayAreaScience.org Events
PRIORITY:0
TRANSP:TRANSPARENT
END:VEVENT
END:VCALENDAR