BEGIN:VCALENDAR
VERSION:2.0
METHOD:PUBLISH
CALSCALE:GREGORIAN
PRODID:-//Refresh Web Development//Helios Calendar//EN
X-FROM-URL:https://www.bayareascience.org/calendar/index.php?com=details&eID=36746
X-WR-RELCALID:BayAreaScience.org Lead in Oakland Unified School District Community Webinar 20240917T160000
X-WR-TIMEZONE:America/New_York
X-WR-CALNAME:BayAreaScience.org
BEGIN:VEVENT
URL;VALUE=URI:https://www.bayareascience.org/calendar/index.php?com=detail&eID=36746
DTSTART:20240917T160000
DTEND:20240917T170000
SUMMARY:Lead in Oakland Unified School District Community Webinar
DESCRIPTION:You may have heard about the lead situation going on in Oakland Unified School District. The overview is that extremely high levels of lead was found in...\n______________________________\nThis Event Downloaded From a Helios Calendar Powered Site
LOCATION:Lead Out OUSD -  \, \, CA  
CATEGORIES:BayAreaScience.org Events
PRIORITY:0
TRANSP:TRANSPARENT
END:VEVENT
END:VCALENDAR