BEGIN:VCALENDAR
VERSION:2.0
METHOD:PUBLISH
CALSCALE:GREGORIAN
PRODID:-//Refresh Web Development//Helios Calendar//EN
X-FROM-URL:https://www.bayareascience.org/calendar/index.php?com=details&eID=36749
X-WR-RELCALID:BayAreaScience.org Outbreaks: What You Need to Know About COVID, Mpox, Bird Flu, Valley Fever, and Other Public Health Threats - Livestream 20240917T160000
X-WR-TIMEZONE:America/New_York
X-WR-CALNAME:BayAreaScience.org
BEGIN:VEVENT
URL;VALUE=URI:https://www.bayareascience.org/calendar/index.php?com=detail&eID=36749
DTSTART:20240917T160000
DTEND:20240917T173000
SUMMARY:Outbreaks: What You Need to Know About COVID\, Mpox\, Bird Flu\, Valley Fever\, and Other Public Health Threats - Livestream
DESCRIPTION:New COVID-19 vaccines are now available at a hospital or pharmacy near you. Which new vaccine should I get? When should I get the flu shot this year? How worried should I be about bird flu? Will...\n______________________________\nThis Event Downloaded From a Helios Calendar Powered Site
LOCATION:UC Berkeley Public Health -  \, \, CA  
CATEGORIES:BayAreaScience.org Events
PRIORITY:0
TRANSP:TRANSPARENT
END:VEVENT
END:VCALENDAR