BEGIN:VCALENDAR
VERSION:2.0
METHOD:PUBLISH
CALSCALE:GREGORIAN
PRODID:-//Refresh Web Development//Helios Calendar//EN
X-FROM-URL:https://www.bayareascience.org/calendar/index.php?com=details&eID=36771
X-WR-RELCALID:BayAreaScience.org Twilight Marsh Walk 20240921T181500
X-WR-TIMEZONE:America/New_York
X-WR-CALNAME:BayAreaScience.org
BEGIN:VEVENT
URL;VALUE=URI:https://www.bayareascience.org/calendar/index.php?com=detail&eID=36771
DTSTART:20240921T181500
DTEND:20240921T194500
SUMMARY:Twilight Marsh Walk
DESCRIPTION:Experience the salt marsh  at twilight on an easy stroll along refuge trails (about .6 miles). At the setting of the sun we will...\n______________________________\nThis Event Downloaded From a Helios Calendar Powered Site
LOCATION:Don Edwards Refuge Headquarters & Visitors Center - 2 Marshlands Road \, Fremont\, CA  94555
CATEGORIES:BayAreaScience.org Events
PRIORITY:0
TRANSP:TRANSPARENT
END:VEVENT
END:VCALENDAR