BEGIN:VCALENDAR
VERSION:2.0
METHOD:PUBLISH
CALSCALE:GREGORIAN
PRODID:-//Refresh Web Development//Helios Calendar//EN
X-FROM-URL:https://www.bayareascience.org/calendar/index.php?com=details&eID=36772
X-WR-RELCALID:BayAreaScience.org Is Human Hibernation a Possible Tool for Future Long-Term Crewed Space Flight? 20240921T193000
X-WR-TIMEZONE:America/New_York
X-WR-CALNAME:BayAreaScience.org
BEGIN:VEVENT
URL;VALUE=URI:https://www.bayareascience.org/calendar/index.php?com=detail&eID=36772
DTSTART:20240921T193000
DTEND:20240921T210000
SUMMARY:Is Human Hibernation a Possible Tool for Future Long-Term Crewed Space Flight?
DESCRIPTION:Dr. Wallace’s talk with discuss the fantasy of human hibernation\, what are the different types of hibernation\, what are the proposed mechanisms of hibernation\, and why humans are biologically...\n______________________________\nThis Event Downloaded From a Helios Calendar Powered Site
LOCATION:East Bay Astronomical Society - Chabot Space & Science Center\, 10000 Skyline Blvd Classroom 4 formerly knows as Copernicus\, Oakland\, CA  94619
CATEGORIES:BayAreaScience.org Events
PRIORITY:0
TRANSP:TRANSPARENT
END:VEVENT
END:VCALENDAR