BEGIN:VCALENDAR
VERSION:2.0
METHOD:PUBLISH
CALSCALE:GREGORIAN
PRODID:-//Refresh Web Development//Helios Calendar//EN
X-FROM-URL:https://www.bayareascience.org/calendar/index.php?com=details&eID=36774
X-WR-RELCALID:BayAreaScience.org Primordial Pathway: A Legacy of Ancient Life on Earth  20241010T190000
X-WR-TIMEZONE:America/New_York
X-WR-CALNAME:BayAreaScience.org
BEGIN:VEVENT
URL;VALUE=URI:https://www.bayareascience.org/calendar/index.php?com=detail&eID=36774
DTSTART:20241010T190000
DTEND:20241010T200000
SUMMARY:Primordial Pathway: A Legacy of Ancient Life on Earth 
DESCRIPTION:It is a mystery how the earliest organisms on earth evolved the means to thrive\, grow and reproduce under the sparse conditions of the young planet. Primordial earth had little oxygen and...\n______________________________\nThis Event Downloaded From a Helios Calendar Powered Site
LOCATION:Stanford Linear Accelerator (SLAC) Public Lecture Series - 2575 Sand Hill Road\, Building 51 Kavli Auditorium\, Menlo Park\, CA  94025
CATEGORIES:BayAreaScience.org Events
PRIORITY:0
TRANSP:TRANSPARENT
END:VEVENT
END:VCALENDAR