BEGIN:VCALENDAR
VERSION:2.0
METHOD:PUBLISH
CALSCALE:GREGORIAN
PRODID:-//Refresh Web Development//Helios Calendar//EN
X-FROM-URL:https://www.bayareascience.org/calendar/index.php?com=details&eID=36775
X-WR-RELCALID:BayAreaScience.org Open Night & Networking Event | Assembling Intelligence: Hybrid Strategies for AI, Art, and Design 20241008T180000
X-WR-TIMEZONE:America/New_York
X-WR-CALNAME:BayAreaScience.org
BEGIN:VEVENT
URL;VALUE=URI:https://www.bayareascience.org/calendar/index.php?com=detail&eID=36775
DTSTART:20241008T180000
DTEND:20241008T200000
SUMMARY:Open Night & Networking Event | Assembling Intelligence: Hybrid Strategies for AI\, Art\, and Design
DESCRIPTION:Join us for an Open Night of Assembling Intelligence: Hybrid Strategies for AI\, Art\, and Design\, as we partner with San Francisco Tech Week.\n______________________________\nThis Event Downloaded From a Helios Calendar Powered Site
LOCATION:swissnex San Francisco - The Embarcadero Pier 17\, Suite 800\, San Francisco\, CA  94111
CATEGORIES:BayAreaScience.org Events
PRIORITY:0
TRANSP:TRANSPARENT
END:VEVENT
END:VCALENDAR