BEGIN:VCALENDAR
VERSION:2.0
METHOD:PUBLISH
CALSCALE:GREGORIAN
PRODID:-//Refresh Web Development//Helios Calendar//EN
X-FROM-URL:https://www.bayareascience.org/calendar/index.php?com=details&eID=36787
X-WR-RELCALID:BayAreaScience.org  Ranger-Guided Hike: Main Loop 20240919T100000
X-WR-TIMEZONE:America/New_York
X-WR-CALNAME:BayAreaScience.org
BEGIN:VEVENT
URL;VALUE=URI:https://www.bayareascience.org/calendar/index.php?com=detail&eID=36787
DTSTART:20240919T100000
DTEND:20240919T120000
SUMMARY: Ranger-Guided Hike: Main Loop
DESCRIPTION:Have you ever wondered what a ranger looks at when they go for a walk in the woods? You’re invited to come with us!On Sept 19th\, Ranger Ryan will be leading a 2-mile guided hike along...\n______________________________\nThis Event Downloaded From a Helios Calendar Powered Site
LOCATION:Mount Tamalpais State Park - 3801 Panoramic Highway \, Mill Valley\, CA USA 94941
CATEGORIES:BayAreaScience.org Events
PRIORITY:0
TRANSP:TRANSPARENT
END:VEVENT
END:VCALENDAR