BEGIN:VCALENDAR
VERSION:2.0
METHOD:PUBLISH
CALSCALE:GREGORIAN
PRODID:-//Refresh Web Development//Helios Calendar//EN
X-FROM-URL:https://www.bayareascience.org/calendar/index.php?com=details&eID=36788
X-WR-RELCALID:BayAreaScience.org  Seti Live: New Exoplanets Just Dropped! - Livestream 20240919T143000
X-WR-TIMEZONE:America/New_York
X-WR-CALNAME:BayAreaScience.org
BEGIN:VEVENT
URL;VALUE=URI:https://www.bayareascience.org/calendar/index.php?com=detail&eID=36788
DTSTART:20240919T143000
DTEND:20240919T150000
SUMMARY: Seti Live: New Exoplanets Just Dropped! - Livestream
DESCRIPTION:And Citizen Scientists Helped Find Them Exoplanets are planets that orbit stars outside our solar system. We've been finding potential exoplanets more often since the Kepler and TESS...\n______________________________\nThis Event Downloaded From a Helios Calendar Powered Site
LOCATION:SETI Live -  \, \, CA  
CATEGORIES:BayAreaScience.org Events
PRIORITY:0
TRANSP:TRANSPARENT
END:VEVENT
END:VCALENDAR