BEGIN:VCALENDAR
VERSION:2.0
METHOD:PUBLISH
CALSCALE:GREGORIAN
PRODID:-//Refresh Web Development//Helios Calendar//EN
X-FROM-URL:https://www.bayareascience.org/calendar/index.php?com=details&eID=36802
X-WR-RELCALID:BayAreaScience.org The long and the short of it: Mechanistic insights into the mRNA poly(A) tail machinery 20250319T153000
X-WR-TIMEZONE:America/New_York
X-WR-CALNAME:BayAreaScience.org
BEGIN:VEVENT
URL;VALUE=URI:https://www.bayareascience.org/calendar/index.php?com=detail&eID=36802
DTSTART:20250319T153000
DTEND:20250319T163000
SUMMARY:The long and the short of it: Mechanistic insights into the mRNA poly(A) tail machinery
DESCRIPTION:Cells are defined by the genes they express. Moreover\, rapid changes in gene expression allow cells to respond to their environments. The Passmore lab uses biochemical reconstitution\, structural...\n______________________________\nThis Event Downloaded From a Helios Calendar Powered Site
LOCATION:Genetics and Plant Biology Building - UC Berkeley Room 100\, Berkeley\, CA  94720
CATEGORIES:BayAreaScience.org Events
PRIORITY:0
TRANSP:TRANSPARENT
END:VEVENT
END:VCALENDAR