BEGIN:VCALENDAR
VERSION:2.0
METHOD:PUBLISH
CALSCALE:GREGORIAN
PRODID:-//Refresh Web Development//Helios Calendar//EN
X-FROM-URL:https://www.bayareascience.org/calendar/index.php?com=details&eID=36806
X-WR-RELCALID:BayAreaScience.org Christmas Bird Count - Livestream 20241114T190000
X-WR-TIMEZONE:America/New_York
X-WR-CALNAME:BayAreaScience.org
BEGIN:VEVENT
URL;VALUE=URI:https://www.bayareascience.org/calendar/index.php?com=detail&eID=36806
DTSTART:20241114T190000
DTEND:20241114T210000
SUMMARY:Christmas Bird Count - Livestream
DESCRIPTION:Speaker: Josiah ClarkRegister at weblink to attend\n______________________________\nThis Event Downloaded From a Helios Calendar Powered Site
LOCATION:Marin Audubon Society -  \, \, CA  
CATEGORIES:BayAreaScience.org Events
PRIORITY:0
TRANSP:TRANSPARENT
END:VEVENT
END:VCALENDAR