BEGIN:VCALENDAR
VERSION:2.0
METHOD:PUBLISH
CALSCALE:GREGORIAN
PRODID:-//Refresh Web Development//Helios Calendar//EN
X-FROM-URL:https://www.bayareascience.org/calendar/index.php?com=details&eID=36811
X-WR-RELCALID:BayAreaScience.org Producing Geologic Hydrogen: a Niche or of Strategic Relevance in the Energy Transition? 20241009T163000
X-WR-TIMEZONE:America/New_York
X-WR-CALNAME:BayAreaScience.org
BEGIN:VEVENT
URL;VALUE=URI:https://www.bayareascience.org/calendar/index.php?com=detail&eID=36811
DTSTART:20241009T163000
DTEND:20241009T172000
SUMMARY:Producing Geologic Hydrogen: a Niche or of Strategic Relevance in the Energy Transition?
DESCRIPTION:\n______________________________\nThis Event Downloaded From a Helios Calendar Powered Site
LOCATION:Stanford University Energy Seminar - Shriram Center Room 104\, Stanford\, CA  94305
CATEGORIES:BayAreaScience.org Events
PRIORITY:0
TRANSP:TRANSPARENT
END:VEVENT
END:VCALENDAR