BEGIN:VCALENDAR
VERSION:2.0
METHOD:PUBLISH
CALSCALE:GREGORIAN
PRODID:-//Refresh Web Development//Helios Calendar//EN
X-FROM-URL:https://www.bayareascience.org/calendar/index.php?com=details&eID=36818
X-WR-RELCALID:BayAreaScience.org How do Neurons, Humans, and Artificial Neural Networks Predict? 20240923T160000
X-WR-TIMEZONE:America/New_York
X-WR-CALNAME:BayAreaScience.org
BEGIN:VEVENT
URL;VALUE=URI:https://www.bayareascience.org/calendar/index.php?com=detail&eID=36818
DTSTART:20240923T160000
DTEND:20240923T160000
SUMMARY:How do Neurons\, Humans\, and Artificial Neural Networks Predict?
DESCRIPTION:Dr. Sarah Marzan of Pitzer\, Scripps\, and Claremont McKenna College will pose the question: Do neurons\, humans\, and artificial neural networks predict efficiently\, and if so\, how? Dr. Marzen attacks...\n______________________________\nThis Event Downloaded From a Helios Calendar Powered Site
LOCATION:Sonoma State University - What Physicists Do - 1801 E. Cotati Ave. Darwin Hall\, Room 103\, Rohnert Park\, CA USA 94928
CATEGORIES:BayAreaScience.org Events
PRIORITY:0
TRANSP:TRANSPARENT
END:VEVENT
END:VCALENDAR