BEGIN:VCALENDAR
VERSION:2.0
METHOD:PUBLISH
CALSCALE:GREGORIAN
PRODID:-//Refresh Web Development//Helios Calendar//EN
X-FROM-URL:https://www.bayareascience.org/calendar/index.php?com=details&eID=36821
X-WR-RELCALID:BayAreaScience.org Dark Matter Searches Using Gravitational Wave Detectors 20241021T160000
X-WR-TIMEZONE:America/New_York
X-WR-CALNAME:BayAreaScience.org
BEGIN:VEVENT
URL;VALUE=URI:https://www.bayareascience.org/calendar/index.php?com=detail&eID=36821
DTSTART:20241021T160000
DTEND:20241021T160000
SUMMARY:Dark Matter Searches Using Gravitational Wave Detectors
DESCRIPTION:Dr. Nancy Aggarwall of UC Davis conducts precision measurements of fundamental physics. She uses techniques from Quantum Optics\, atomic physics\, and condensed matter physics to look for new physics...\n______________________________\nThis Event Downloaded From a Helios Calendar Powered Site
LOCATION:Sonoma State University - What Physicists Do - 1801 E. Cotati Ave. Darwin Hall\, Room 103\, Rohnert Park\, CA USA 94928
CATEGORIES:BayAreaScience.org Events
PRIORITY:0
TRANSP:TRANSPARENT
END:VEVENT
END:VCALENDAR