BEGIN:VCALENDAR
VERSION:2.0
METHOD:PUBLISH
CALSCALE:GREGORIAN
PRODID:-//Refresh Web Development//Helios Calendar//EN
X-FROM-URL:https://www.bayareascience.org/calendar/index.php?com=details&eID=36822
X-WR-RELCALID:BayAreaScience.org Cosmic Alchemy: How Neutron Star Smash-Ups Forge Heavy Atoms 20241028T160000
X-WR-TIMEZONE:America/New_York
X-WR-CALNAME:BayAreaScience.org
BEGIN:VEVENT
URL;VALUE=URI:https://www.bayareascience.org/calendar/index.php?com=detail&eID=36822
DTSTART:20241028T160000
DTEND:20241028T160000
SUMMARY:Cosmic Alchemy: How Neutron Star Smash-Ups Forge Heavy Atoms
DESCRIPTION:The source of about half of the heaviest elements in the Universe has been a mystery for a long time. The key may lie in the collision of neutron stars - violent\, energetic\, and unusual events...\n______________________________\nThis Event Downloaded From a Helios Calendar Powered Site
LOCATION:Sonoma State University - What Physicists Do - 1801 E. Cotati Ave. Darwin Hall\, Room 103\, Rohnert Park\, CA USA 94928
CATEGORIES:BayAreaScience.org Events
PRIORITY:0
TRANSP:TRANSPARENT
END:VEVENT
END:VCALENDAR